BEGIN:VCALENDAR
VERSION:2.0
PRODID:-//TYPO3/NONSGML News system (news)//EN
BEGIN:VEVENT
UID:news-96284@www.lavienne86.fr
DTSTAMP:20260420T092805
DTSTART:20260711T000000
DTEND:20260921T000000
SUMMARY:Concours photo "L'eau n'est pas bleue"
CATEGORIES:Exposition
DESCRIPTION:L’association Or Bleu Festival lance le concours photo 
 « L’eau n’est pas bleue », en partenariat avec la 
 commune de La Roche‑Posay.
LOCATION:La Roche-Posay
END:VEVENT
END:VCALENDAR