BEGIN:VCALENDAR
VERSION:2.0
PRODID:-//TYPO3/NONSGML News system (news)//EN
BEGIN:VEVENT
UID:news-96099@www.lavienne86.fr
DTSTAMP:20260420T092632
DTSTART:20260501T090000
DTEND:20260715T190000
SUMMARY:Jardin : au paradis des fleurs et des oiseaux
CATEGORIES:Sortie nature
DESCRIPTION:Monique a créé un jardin des cinq sens de plus de 3000 m2 
 et de 1300 variétés de végétaux à Availles- Limouzine. 
    
LOCATION:Availles-Limouzine
END:VEVENT
END:VCALENDAR