BEGIN:VCALENDAR
VERSION:2.0
PRODID:-//TYPO3/NONSGML News system (news)//EN
BEGIN:VEVENT
UID:news-96093@www.lavienne86.fr
DTSTAMP:20260420T151310
DTSTART:20260426T090000
DTEND:20260426T120000
SUMMARY:Randonnée pour Sorenza
CATEGORIES:Soutien des proches aidants, Sport
DESCRIPTION:Marche solidaire en accompagnant Sorenza, au profit de 
 l'association "Combattre le NARS 2".
LOCATION:Parc de Vounant - Vivonne
END:VEVENT
END:VCALENDAR